BEGIN:VCALENDAR
METHOD:PUBLISH
PRODID:www-wi1-rw-fau-de//Events//EN
VERSION:2.0
BEGIN:VEVENT
SUMMARY:From idea to realization – AI-supported matchmaking for civi
 l society innovators
UID:077f-564e-ab10-6834@www.wi1.rw.fau.de
DTSTART:20250923T000000Z
DTEND:20250924T000000Z
LOCATION:<div class="page" title="Page 1">\n<div class="layoutArea">\n
 <div class="column">\n\nTHWS in Schweinfurt\n\n</div>\n</div>\n</div>
DTSTAMP:20260421T115021Z
END:VEVENT
END:VCALENDAR